BEGIN:VCALENDAR
VERSION:2.0
PRODID:-//Rävetofta OK - ECPv6.8.1//NONSGML v1.0//EN
CALSCALE:GREGORIAN
METHOD:PUBLISH
X-WR-CALNAME:Rävetofta OK
X-ORIGINAL-URL:https://ravetofta.org
X-WR-CALDESC:Events for Rävetofta OK
REFRESH-INTERVAL;VALUE=DURATION:PT1H
X-Robots-Tag:noindex
X-PUBLISHED-TTL:PT1H
BEGIN:VTIMEZONE
TZID:Europe/Stockholm
BEGIN:DAYLIGHT
TZOFFSETFROM:+0100
TZOFFSETTO:+0200
TZNAME:CEST
DTSTART:20250330T010000
END:DAYLIGHT
BEGIN:STANDARD
TZOFFSETFROM:+0200
TZOFFSETTO:+0100
TZNAME:CET
DTSTART:20251026T010000
END:STANDARD
END:VTIMEZONE
BEGIN:VEVENT
DTSTART;TZID=Europe/Stockholm:20250402T090000
DTEND;TZID=Europe/Stockholm:20250402T100000
DTSTAMP:20260424T034227
CREATED:20250202T214116Z
LAST-MODIFIED:20250315T154236Z
UID:858-1743584400-1743588000@ravetofta.org
SUMMARY:Veteran-ol
DESCRIPTION:Vi har veteran-ol.\nStart mellan 9-10\, samling i Kågerödslund parkering vid cilusarna på Industrigatan och därifrån snitsel till samlingen.
URL:https://ravetofta.org/event/858/
END:VEVENT
BEGIN:VEVENT
DTSTART;TZID=Europe/Stockholm:20250409T090000
DTEND;TZID=Europe/Stockholm:20250409T100000
DTSTAMP:20260424T034227
CREATED:20250202T214139Z
LAST-MODIFIED:20250409T174142Z
UID:861-1744189200-1744192800@ravetofta.org
SUMMARY:Veteran-ol
DESCRIPTION:Harbäckshult
URL:https://ravetofta.org/event/veteran-ol-14/
END:VEVENT
BEGIN:VEVENT
DTSTART;TZID=Europe/Stockholm:20250416T090000
DTEND;TZID=Europe/Stockholm:20250416T100000
DTSTAMP:20260424T034227
CREATED:20250202T214200Z
LAST-MODIFIED:20250409T195728Z
UID:863-1744794000-1744797600@ravetofta.org
SUMMARY:Veteran-ol
DESCRIPTION:Veteran- OL \nBrekille\nStart mellan 9-10\, Invänta Stigs utskick.
URL:https://ravetofta.org/event/veteran-ol-15/
END:VEVENT
BEGIN:VEVENT
DTSTART;TZID=Europe/Stockholm:20250423T090000
DTEND;TZID=Europe/Stockholm:20250423T100000
DTSTAMP:20260424T034227
CREATED:20250202T214218Z
LAST-MODIFIED:20250409T200005Z
UID:865-1745398800-1745402400@ravetofta.org
SUMMARY:Veteran-ol
DESCRIPTION:Veteran-ol. \nAggarp\nSe Stig Johanssons utskick via mail varje söndag. Eller hör med Maj-Britt eller Eva. Start mellan 9-10
URL:https://ravetofta.org/event/veteran-ol-16/
END:VEVENT
BEGIN:VEVENT
DTSTART;TZID=Europe/Stockholm:20250430T090000
DTEND;TZID=Europe/Stockholm:20250430T100000
DTSTAMP:20260424T034227
CREATED:20250202T214257Z
LAST-MODIFIED:20250409T200215Z
UID:867-1746003600-1746007200@ravetofta.org
SUMMARY:Veteran-ol
DESCRIPTION:Veteran-ol.\nJägersborg \nSe Stig Johanssons utskick via mail varje söndag. Eller hör med Maj-Britt eller Eva. Start mellan 9-10
URL:https://ravetofta.org/event/veteran-ol-17/
END:VEVENT
END:VCALENDAR