BEGIN:VCALENDAR
VERSION:2.0
PRODID:-//Rävetofta OK - ECPv6.8.1//NONSGML v1.0//EN
CALSCALE:GREGORIAN
METHOD:PUBLISH
X-ORIGINAL-URL:https://ravetofta.org
X-WR-CALDESC:Events for Rävetofta OK
REFRESH-INTERVAL;VALUE=DURATION:PT1H
X-Robots-Tag:noindex
X-PUBLISHED-TTL:PT1H
BEGIN:VTIMEZONE
TZID:Europe/Stockholm
BEGIN:DAYLIGHT
TZOFFSETFROM:+0100
TZOFFSETTO:+0200
TZNAME:CEST
DTSTART:20250330T010000
END:DAYLIGHT
BEGIN:STANDARD
TZOFFSETFROM:+0200
TZOFFSETTO:+0100
TZNAME:CET
DTSTART:20251026T010000
END:STANDARD
END:VTIMEZONE
BEGIN:VEVENT
DTSTART;TZID=Europe/Stockholm:20251223T180000
DTEND;TZID=Europe/Stockholm:20251223T190000
DTSTAMP:20260422T220643
CREATED:20251217T194715Z
LAST-MODIFIED:20251217T194715Z
UID:1280-1766512800-1766516400@ravetofta.org
SUMMARY:Ingen Gympa 23/12
DESCRIPTION:
URL:https://ravetofta.org/event/ingen-gympa-23-12/
LOCATION:Kågeröd
END:VEVENT
BEGIN:VEVENT
DTSTART;TZID=Europe/Stockholm:20251226T100000
DTEND;TZID=Europe/Stockholm:20251226T113000
DTSTAMP:20260422T220643
CREATED:20251217T194502Z
LAST-MODIFIED:20251217T194502Z
UID:1278-1766743200-1766748600@ravetofta.org
SUMMARY:Tomteorientering i Teglaröd Annandag Jul kl.10.00
DESCRIPTION:Kom och spring en runda i Teglarödskogen! \nI börjar traditionsenligt med lite uppvärmning runt kanske en gran..  Tomtemor  har gjort en bana för de små\, tomten en bana för de stora. Kanske har han rört till det lite\, vi får se.. \nEfter motionen bjuder Tomten på glögg o pepparkakor
URL:https://ravetofta.org/event/tomteorientering-i-teglarod-annandag-jul-kl-10-00/
LOCATION:Teglaröd\, Teglarödsvägen 1582\, Kågeröd\, Kågeröd\, 26876\, Sweden
END:VEVENT
BEGIN:VEVENT
DTSTART;TZID=Europe/Stockholm:20251230T080000
DTEND;TZID=Europe/Stockholm:20251230T170000
DTSTAMP:20260422T220643
CREATED:20251217T193543Z
LAST-MODIFIED:20251217T193543Z
UID:1276-1767081600-1767114000@ravetofta.org
SUMMARY:Gympa i Tryckhallen
DESCRIPTION:Årets sista Gympa i Tryckhallen 30/12 kl 18-19
URL:https://ravetofta.org/event/gympa-i-tryckhallen-21/
LOCATION:Kågeröd
END:VEVENT
END:VCALENDAR