BEGIN:VCALENDAR
VERSION:2.0
PRODID:-//Rävetofta OK - ECPv6.8.1//NONSGML v1.0//EN
CALSCALE:GREGORIAN
METHOD:PUBLISH
X-ORIGINAL-URL:https://ravetofta.org
X-WR-CALDESC:Events for Rävetofta OK
REFRESH-INTERVAL;VALUE=DURATION:PT1H
X-Robots-Tag:noindex
X-PUBLISHED-TTL:PT1H
BEGIN:VTIMEZONE
TZID:Europe/Stockholm
BEGIN:DAYLIGHT
TZOFFSETFROM:+0100
TZOFFSETTO:+0200
TZNAME:CEST
DTSTART:20260329T010000
END:DAYLIGHT
BEGIN:STANDARD
TZOFFSETFROM:+0200
TZOFFSETTO:+0100
TZNAME:CET
DTSTART:20261025T010000
END:STANDARD
END:VTIMEZONE
BEGIN:VEVENT
DTSTART;TZID=Europe/Stockholm:20260111T100000
DTEND;TZID=Europe/Stockholm:20260111T120000
DTSTAMP:20260422T221618
CREATED:20260103T190722Z
LAST-MODIFIED:20260103T190722Z
UID:1291-1768125600-1768132800@ravetofta.org
SUMMARY:Träning Teglaröd eller Vintercup etapp 2 Järavallen
DESCRIPTION:Vinterträningen är igång. \nSpringer eller går med eller utan stavar vid Teglaröd. Samling 10.00. \neller kör till Järavallen på Vintercup etapp 2. OK Silva arrangerar. Mer info på eventor\, följ länken nere till vänster
URL:https://ravetofta.org/event/traning-teglarod-eller-vintercup-etapp-2-jaravallen/
LOCATION:Teglaröd\, Teglarödsvägen 1582\, Kågeröd\, Kågeröd\, 26876\, Sweden
END:VEVENT
END:VCALENDAR