BEGIN:VCALENDAR
VERSION:2.0
PRODID:-//Rävetofta OK - ECPv6.8.1//NONSGML v1.0//EN
CALSCALE:GREGORIAN
METHOD:PUBLISH
X-WR-CALNAME:Rävetofta OK
X-ORIGINAL-URL:https://ravetofta.org
X-WR-CALDESC:Events for Rävetofta OK
REFRESH-INTERVAL;VALUE=DURATION:PT1H
X-Robots-Tag:noindex
X-PUBLISHED-TTL:PT1H
BEGIN:VTIMEZONE
TZID:Europe/Stockholm
BEGIN:DAYLIGHT
TZOFFSETFROM:+0100
TZOFFSETTO:+0200
TZNAME:CEST
DTSTART:20260329T010000
END:DAYLIGHT
BEGIN:STANDARD
TZOFFSETFROM:+0200
TZOFFSETTO:+0100
TZNAME:CET
DTSTART:20261025T010000
END:STANDARD
END:VTIMEZONE
BEGIN:VEVENT
DTSTART;TZID=Europe/Stockholm:20260104T100000
DTEND;TZID=Europe/Stockholm:20260104T120000
DTSTAMP:20260422T030810
CREATED:20260103T174719Z
LAST-MODIFIED:20260103T174719Z
UID:1287-1767520800-1767528000@ravetofta.org
SUMMARY:Träning Teglaröd eller Vintercup på Revingehed
DESCRIPTION:Vinterträningen sätter igång. \nAntingen springer man i Teglaröd eller går en runda med eller utan stavar. Möjlighet till bastu efteråt. \nEller så kör man till Vintercupen\, första etappen \, i Revinge. Lunds OK arrangerar.
URL:https://ravetofta.org/event/traning-teglarod-eller-vintercup-pa-revingehed/
LOCATION:Teglaröd\, Teglarödsvägen 1582\, Kågeröd\, Kågeröd\, 26876\, Sweden
END:VEVENT
END:VCALENDAR