BEGIN:VCALENDAR
VERSION:2.0
PRODID:-//Rävetofta OK - ECPv6.8.1//NONSGML v1.0//EN
CALSCALE:GREGORIAN
METHOD:PUBLISH
X-WR-CALNAME:Rävetofta OK
X-ORIGINAL-URL:https://ravetofta.org
X-WR-CALDESC:Events for Rävetofta OK
REFRESH-INTERVAL;VALUE=DURATION:PT1H
X-Robots-Tag:noindex
X-PUBLISHED-TTL:PT1H
BEGIN:VTIMEZONE
TZID:Europe/Stockholm
BEGIN:DAYLIGHT
TZOFFSETFROM:+0100
TZOFFSETTO:+0200
TZNAME:CEST
DTSTART:20250330T010000
END:DAYLIGHT
BEGIN:STANDARD
TZOFFSETFROM:+0200
TZOFFSETTO:+0100
TZNAME:CET
DTSTART:20251026T010000
END:STANDARD
END:VTIMEZONE
BEGIN:VEVENT
DTSTART;TZID=Europe/Stockholm:20250906T100000
DTEND;TZID=Europe/Stockholm:20250906T130000
DTSTAMP:20260423T043650
CREATED:20250828T192132Z
LAST-MODIFIED:20250828T192137Z
UID:1197-1757152800-1757163600@ravetofta.org
SUMMARY:DM medeldistans
DESCRIPTION:DM medeldistans arrangeras av Hässleholms OK och Tormestorps IF i Ljungarum\, 3km öster om N.Mellby kyrkby. \nFörsta start 10.00. Mer info på Eventor.
URL:https://ravetofta.org/event/dm-medeldistans/
LOCATION:Kågeröd
END:VEVENT
END:VCALENDAR