BEGIN:VCALENDAR
VERSION:2.0
PRODID:-//Rävetofta OK - ECPv6.8.1//NONSGML v1.0//EN
CALSCALE:GREGORIAN
METHOD:PUBLISH
X-ORIGINAL-URL:https://ravetofta.org
X-WR-CALDESC:Events for Rävetofta OK
REFRESH-INTERVAL;VALUE=DURATION:PT1H
X-Robots-Tag:noindex
X-PUBLISHED-TTL:PT1H
BEGIN:VTIMEZONE
TZID:Europe/Stockholm
BEGIN:DAYLIGHT
TZOFFSETFROM:+0100
TZOFFSETTO:+0200
TZNAME:CEST
DTSTART:20250330T010000
END:DAYLIGHT
BEGIN:STANDARD
TZOFFSETFROM:+0200
TZOFFSETTO:+0100
TZNAME:CET
DTSTART:20251026T010000
END:STANDARD
END:VTIMEZONE
BEGIN:VEVENT
DTSTART;TZID=Europe/Stockholm:20250902T174500
DTEND;TZID=Europe/Stockholm:20250902T193000
DTSTAMP:20260418T112436
CREATED:20250827T201026Z
LAST-MODIFIED:20250827T201026Z
UID:1182-1756835100-1756841400@ravetofta.org
SUMMARY:Nybörjar och teknikträning
DESCRIPTION:VÄLKOMNA TILL HÖSTENS ORIENTERINGSKURS \nKom och prova på! Alla åldrar! \nNybörjare och för er som vill slipa till formen med svårare utmaningar! \nHeltäckande kläder och efter väder! Tag med dricka \, vi bjuder på grillad korv! \nVi samlas i Teglaröd tisdagen den 26 augusti klockan 17.45 \nVägvisning med en orienteringsskärm på vägen mellan Knutstorp och Klåveröd. \nOBS! Information och anmälan till: M-B Byström  073 83 19441 \nRÄVETOFTA OK
URL:https://ravetofta.org/event/nyborjar-och-tekniktraning-2/
LOCATION:Teglaröd\, Teglarödsvägen 1582\, Kågeröd\, Kågeröd\, 26876\, Sweden
END:VEVENT
END:VCALENDAR